BEGIN:VCALENDAR
VERSION:2.0
PRODID:-//POOLE Athletic Club - ECPv6.15.13//NONSGML v1.0//EN
CALSCALE:GREGORIAN
METHOD:PUBLISH
X-WR-CALNAME:POOLE Athletic Club
X-ORIGINAL-URL:https://pooleac.co.uk
X-WR-CALDESC:Events for POOLE Athletic Club
REFRESH-INTERVAL;VALUE=DURATION:PT1H
X-Robots-Tag:noindex
X-PUBLISHED-TTL:PT1H
BEGIN:VTIMEZONE
TZID:Europe/London
BEGIN:DAYLIGHT
TZOFFSETFROM:+0000
TZOFFSETTO:+0100
TZNAME:BST
DTSTART:20250330T010000
END:DAYLIGHT
BEGIN:STANDARD
TZOFFSETFROM:+0100
TZOFFSETTO:+0000
TZNAME:GMT
DTSTART:20251026T010000
END:STANDARD
BEGIN:DAYLIGHT
TZOFFSETFROM:+0000
TZOFFSETTO:+0100
TZNAME:BST
DTSTART:20260329T010000
END:DAYLIGHT
BEGIN:STANDARD
TZOFFSETFROM:+0100
TZOFFSETTO:+0000
TZNAME:GMT
DTSTART:20261025T010000
END:STANDARD
BEGIN:DAYLIGHT
TZOFFSETFROM:+0000
TZOFFSETTO:+0100
TZNAME:BST
DTSTART:20270328T010000
END:DAYLIGHT
BEGIN:STANDARD
TZOFFSETFROM:+0100
TZOFFSETTO:+0000
TZNAME:GMT
DTSTART:20271031T010000
END:STANDARD
END:VTIMEZONE
BEGIN:VEVENT
DTSTART;VALUE=DATE:20260711
DTEND;VALUE=DATE:20260712
DTSTAMP:20260420T115518
CREATED:20181110T164242Z
LAST-MODIFIED:20251126T160949Z
UID:7902-1783728000-1783814399@pooleac.co.uk
SUMMARY:Moors Valley parkrun
DESCRIPTION:Take a tour to Moors Valley parkrun to take on the free 5k run. \nThe parkrun starts at 9 am on Saturday. Make sure you are registered with parkrun before the event\, and list Poole AC as your club so we can find you in the results. DFYB! (don’t forget your barcode) \nThis run features in the Poole AC parkrun series. Please wear your Poole AC colours when you run.
URL:https://pooleac.co.uk/event/moors-valley-parkrun/
CATEGORIES:All Senior Events,Dorset parkrun series
ATTACH;FMTTYPE=image/png:https://pooleac.co.uk/wp-content/uploads/2017/05/pr_Logo_Web_Trans.png
END:VEVENT
BEGIN:VEVENT
DTSTART;VALUE=DATE:20260725
DTEND;VALUE=DATE:20260726
DTSTAMP:20260420T115518
CREATED:20211203T135453Z
LAST-MODIFIED:20251126T161303Z
UID:13717-1784937600-1785023999@pooleac.co.uk
SUMMARY:Weymouth parkrun
DESCRIPTION:Take a tour to Weymouth parkrun to take on the free 5k run. \nThe parkrun starts at 9 am on Saturday. Make sure you are registered with parkrun before the event\, and list Poole AC as your club so we can find you in the results. DFYB! (don’t forget your barcode) \nThis run will feature in the Poole AC Senior Dorset parkrun series. Please wear your Poole AC top when you run.
URL:https://pooleac.co.uk/event/weymouth-parkrun/
LOCATION:Lodmoor Country Park
CATEGORIES:All Senior Events,Dorset parkrun series
ATTACH;FMTTYPE=image/png:https://pooleac.co.uk/wp-content/uploads/2017/05/pr_Logo_Web_Trans.png
END:VEVENT
END:VCALENDAR