BEGIN:VCALENDAR
VERSION:2.0
PRODID:-//POOLE Athletic Club - ECPv6.15.13//NONSGML v1.0//EN
CALSCALE:GREGORIAN
METHOD:PUBLISH
X-ORIGINAL-URL:https://pooleac.co.uk
X-WR-CALDESC:Events for POOLE Athletic Club
REFRESH-INTERVAL;VALUE=DURATION:PT1H
X-Robots-Tag:noindex
X-PUBLISHED-TTL:PT1H
BEGIN:VTIMEZONE
TZID:Europe/London
BEGIN:DAYLIGHT
TZOFFSETFROM:+0000
TZOFFSETTO:+0100
TZNAME:BST
DTSTART:20250330T010000
END:DAYLIGHT
BEGIN:STANDARD
TZOFFSETFROM:+0100
TZOFFSETTO:+0000
TZNAME:GMT
DTSTART:20251026T010000
END:STANDARD
BEGIN:DAYLIGHT
TZOFFSETFROM:+0000
TZOFFSETTO:+0100
TZNAME:BST
DTSTART:20260329T010000
END:DAYLIGHT
BEGIN:STANDARD
TZOFFSETFROM:+0100
TZOFFSETTO:+0000
TZNAME:GMT
DTSTART:20261025T010000
END:STANDARD
BEGIN:DAYLIGHT
TZOFFSETFROM:+0000
TZOFFSETTO:+0100
TZNAME:BST
DTSTART:20270328T010000
END:DAYLIGHT
BEGIN:STANDARD
TZOFFSETFROM:+0100
TZOFFSETTO:+0000
TZNAME:GMT
DTSTART:20271031T010000
END:STANDARD
END:VTIMEZONE
BEGIN:VEVENT
DTSTART;VALUE=DATE:20260623
DTEND;VALUE=DATE:20260624
DTSTAMP:20260422T121046
CREATED:20171123T182647Z
LAST-MODIFIED:20251126T160720Z
UID:4626-1782172800-1782259199@pooleac.co.uk
SUMMARY:Cow Plop Plod
DESCRIPTION:An evening 5k (ish) time trial allowing you to stumble around the fields of Pamphill\, Pimperne. \nThis is a popular  event in the Senior Summer Series. \nBe at Pamphill before 6.40pm to set off as soon as possible after this. Don’t forget to bring your barcode! \nThe run will be followed by a well deserved social at “The Man in the Wall” Wetherspoons pub in Wimborne\, BH21 1NF\, where you can rehydrate and have something to eat. \n 
URL:https://pooleac.co.uk/event/cow-plop-plod/
LOCATION:Pamphill\, Pamphill Village Green\,\, Vine Hill\, Wimborne\,\, BH21 4EE
CATEGORIES:All Senior Events,Club Event,Senior Summer Series Race
ATTACH;FMTTYPE=image/jpeg:https://pooleac.co.uk/wp-content/uploads/2017/07/cowplopplod.jpg
END:VEVENT
END:VCALENDAR